BEGIN:VCALENDAR
VERSION:2.0
PRODID:-//Rainmakers - ECPv6.15.17.1//NONSGML v1.0//EN
CALSCALE:GREGORIAN
METHOD:PUBLISH
X-WR-CALNAME:Rainmakers
X-ORIGINAL-URL:https://gorainmakers.com
X-WR-CALDESC:Events for Rainmakers
REFRESH-INTERVAL;VALUE=DURATION:PT1H
X-Robots-Tag:noindex
X-PUBLISHED-TTL:PT1H
BEGIN:VTIMEZONE
TZID:America/Indiana/Indianapolis
BEGIN:DAYLIGHT
TZOFFSETFROM:-0500
TZOFFSETTO:-0400
TZNAME:EDT
DTSTART:20230312T070000
END:DAYLIGHT
BEGIN:STANDARD
TZOFFSETFROM:-0400
TZOFFSETTO:-0500
TZNAME:EST
DTSTART:20231105T060000
END:STANDARD
BEGIN:DAYLIGHT
TZOFFSETFROM:-0500
TZOFFSETTO:-0400
TZNAME:EDT
DTSTART:20240310T070000
END:DAYLIGHT
BEGIN:STANDARD
TZOFFSETFROM:-0400
TZOFFSETTO:-0500
TZNAME:EST
DTSTART:20241103T060000
END:STANDARD
BEGIN:DAYLIGHT
TZOFFSETFROM:-0500
TZOFFSETTO:-0400
TZNAME:EDT
DTSTART:20250309T070000
END:DAYLIGHT
BEGIN:STANDARD
TZOFFSETFROM:-0400
TZOFFSETTO:-0500
TZNAME:EST
DTSTART:20251102T060000
END:STANDARD
END:VTIMEZONE
BEGIN:VEVENT
DTSTART;TZID=America/Indiana/Indianapolis:20241001T083000
DTEND;TZID=America/Indiana/Indianapolis:20241001T100000
DTSTAMP:20260417T225734
CREATED:20240823T172016Z
LAST-MODIFIED:20240826T192058Z
UID:124802-1727771400-1727776800@gorainmakers.com
SUMMARY:Word of Mouth Marketing Machine (WOMMM)
DESCRIPTION:Word of Mouth Marketing Machine (WOMMM) \nDetails coming soon!
URL:https://gorainmakers.com/event/word-of-mouth-marketing-machine-wommm/
LOCATION:TBD\, Indianapolis\, Indiana
ATTACH;FMTTYPE=image/png:https://gorainmakers.com/wp-content/uploads/2024/08/Rainmakers-Word-of-Mouth-Marketing-Machine.png
END:VEVENT
BEGIN:VEVENT
DTSTART;TZID=America/Indiana/Indianapolis:20241009T150000
DTEND;TZID=America/Indiana/Indianapolis:20241009T160000
DTSTAMP:20260417T225734
CREATED:20240918T170856Z
LAST-MODIFIED:20240918T170856Z
UID:124809-1728486000-1728489600@gorainmakers.com
SUMMARY:Leveraging Connections: The Strategic Benefits of Effective Networking
DESCRIPTION:Learn the principles of strategic networking to build genuine\, long-term relationships\, and leverage them for professional growth!\nDiscover how to provide mutual value\, and utilize effective networking strategies both in-person and online:\n\n\n\n\n\n\n\n\n\n\n\n\n\n\n\nThe Networking Mindset: Discover the principles of strategic networking and how shifting your mindset can lead to more meaningful and productive connections.\nBuilding and Nurturing Relationships: Learn techniques for building genuine relationships\, including how to identify key contacts\, initiate conversations\, and maintain long-term connections.\nLeveraging Networks for Growth: Understand how to use your network to access new opportunities\, gain insights\, and achieve your professional goals.\nExplore ways to provide value to others and turn your connections into a mutually beneficial network.\nEffective Networking Strategies: Get practical tips on how to network effectively both in-person and online. From crafting your elevator pitch to engaging on social media platforms\, develop the skills to make a lasting impression.\nOvercoming Networking Challenges: Address common networking barriers and learn strategies to overcome shyness\, manage awkward interactions\, and deal with networking fatigue.
URL:https://gorainmakers.com/event/leveraging-connections-the-strategic-benefits-of-effective-networking/
LOCATION:Nexus Impact Center\, 9511 Angola Ct\, Indianapolis\, 46268
ATTACH;FMTTYPE=image/jpeg:https://gorainmakers.com/wp-content/uploads/2024/09/Leveraging-Connections-The-Strategic-Benefits-of-Effective-Networking.jpg
END:VEVENT
BEGIN:VEVENT
DTSTART;TZID=America/Indiana/Indianapolis:20241010T113000
DTEND;TZID=America/Indiana/Indianapolis:20241010T123000
DTSTAMP:20260417T225734
CREATED:20240514T154335Z
LAST-MODIFIED:20240827T181953Z
UID:124752-1728559800-1728563400@gorainmakers.com
SUMMARY:Rainmakers Webinar: Unleash The Power of Your Personal Brand
DESCRIPTION:Join us on the second Thursday of every month on Zoom! \nOctober Topic: Unleash The Power of Your Personal Brand \nPersonal branding is necessary for the success of any company or individual. Failing to manage your brand can lead to misinformation about you or your company. An outstanding personal brand allows you to gain a competitive advantage\, grow your network\, expand your leadership presence\, and increase your influence. In this presentation\, Yolanda explains how to engage and activate your brand in your chosen marketplace. \nOur Speaker:\n \nYolanda M. Smith \nFounder\, Branding 4 Success®\, LLC \nYolanda M. Smith embodies purpose-driven success and is known for her personal branding expertise and business strategy. She founded Branding 4 Success®\, LLC as the CEO and Chief Brandthrupist®. Certified as a brand analyst\, Yolanda is an international speaker and coach empowering entrepreneurs and professionals to unlock their personal brand for influence\, impact\, and income to grow their businesses and advance their careers. She recently joined Legal Shield as an independent associate and is passionate about empowering people with access to their rights. Before entrepreneurship\, Yolanda held various leadership roles in the pharmaceutical industry. \nLearn more about Branding 4 Success®\, LLC
URL:https://gorainmakers.com/event/rainmakers-webinar-2024-10-10/
LOCATION:Zoom Webinar\, Indianapolis\, IN
CATEGORIES:Webinar
ATTACH;FMTTYPE=image/png:https://gorainmakers.com/wp-content/uploads/2024/05/Rainmakers-Eventbrite-headers-1.png
END:VEVENT
BEGIN:VEVENT
DTSTART;TZID=America/Indiana/Indianapolis:20241016T113000
DTEND;TZID=America/Indiana/Indianapolis:20241016T130000
DTSTAMP:20260417T225734
CREATED:20240506T175107Z
LAST-MODIFIED:20240830T133550Z
UID:124746-1729078200-1729083600@gorainmakers.com
SUMMARY:Rainmakers Connect
DESCRIPTION:Are you ready to rock the networking scene in Indianapolis? Join us for an unforgettable hour of connection and opportunity at the Rainmakers Connect Networking Event on the third Wednesday of each month from 11:30 AM to 1 PM! \nThis event is for BUSINESS OWNERS ONLY. Seats are limited! \nThis event is all about building meaningful relationships with people who get things done in Indianapolis. Our events are open to everyone to make meaningful connections\, known for their friendly and engaging atmosphere\, and we guarantee that you’ll feel welcome from the moment you arrive. \nDon’t pass up the chance to network with the appropriate people\, become part of the Indianapolis community\, and create long-lasting connections that will further your career. 
URL:https://gorainmakers.com/event/rainmakers-connect-5-2024-10-10-2024-10-16/
LOCATION:Monterey Cuisine\, 110 West Main Street\, Suite 135\, Carmel\, Indiana\, 46032
CATEGORIES:Networking
ATTACH;FMTTYPE=image/png:https://gorainmakers.com/wp-content/uploads/2024/03/Rainmakers-Connect.png
END:VEVENT
BEGIN:VEVENT
DTSTART;TZID=America/Indiana/Indianapolis:20241022T083000
DTEND;TZID=America/Indiana/Indianapolis:20241022T093000
DTSTAMP:20260417T225734
CREATED:20240816T173641Z
LAST-MODIFIED:20240816T173641Z
UID:124800-1729585800-1729589400@gorainmakers.com
SUMMARY:The Art of Business Communication: Crafting Your Strategic Blueprint
DESCRIPTION:The Art of Business Communication: Crafting Your Strategic Blueprint \nWorkshop Details Coming Soon!
URL:https://gorainmakers.com/event/the-art-of-business-communication-crafting-your-strategic-blueprint/
LOCATION:Nexus Impact Center\, 9511 Angola Ct\, Indianapolis\, 46268
ATTACH;FMTTYPE=image/png:https://gorainmakers.com/wp-content/uploads/2024/08/RM-Workshop.png
END:VEVENT
BEGIN:VEVENT
DTSTART;TZID=America/Indiana/Indianapolis:20241029T173000
DTEND;TZID=America/Indiana/Indianapolis:20241029T193000
DTSTAMP:20260417T225734
CREATED:20231121T172408Z
LAST-MODIFIED:20240808T143828Z
UID:124609-1730223000-1730230200@gorainmakers.com
SUMMARY:Eat + Drink
DESCRIPTION:Rainmakers Eat + Drink is our monthly social event. We travel all around the city to experience Indy’s best independent restaurant establishments.  Everyone welcome! Bring a friend or colleague and participate in a relaxed networking environment while enjoying the great tastes of Indy. \nJoin us in October at Bonge’s Tavern! \nSeats are Limited! \nPlease Note: All guests must be 21+ to dine at Bonges! (Minimum age is 18 yrs old\, accompanied by a parent or legal guardian) \n5:30-6:30 Cocktails \n6:30-? Dinner \n \n \nNote: We’re responsible for finding a great restaurant! You’re responsible for your food and drink! \nLet’s support a local restaurant\, get to know other folks\, and have great food and beverages all at the same time! \n  \n  \nTHANK YOU to Our Sponsor: \n \nNathan Pfahler \nwith Weichert Realtors for sponsoring Rainmakers Eat + Drink! \nI am happily married to Jennifer Pfahler and we have 2 young boys who are fun and active! I have been a licensed REALTOR since 2005\, started the real estate team of The Pfahler Group\, in 2012\, and have owned my own brokerage since 2018\, purchasing the Weichert Franchise towards the end of 2019. To date\, I’ve been involved in over 700 real estate transactions and am pumped to think about how many families and individuals that means we have helped in their journey to homeownership! \nMy family and I reside in Brownsburg\, IN where we are involved in various school\, church\, and community activities! I am excited to lead a great team and a great brokerage! We would be honored to assist you in your residential or commercial needs. \n 
URL:https://gorainmakers.com/event/eat-drink-23-2024-10-29/
LOCATION:Bonge’s Tavern\, 9830 WEST 280 NORTH\, PERKINSVILLE\, IN\, 46011
CATEGORIES:Networking,Social
ATTACH;FMTTYPE=image/png:https://gorainmakers.com/wp-content/uploads/2022/01/EatDrink2022_wide.png
END:VEVENT
END:VCALENDAR