BEGIN:VCALENDAR
VERSION:2.0
PRODID:-//Rainmakers - ECPv6.15.17.1//NONSGML v1.0//EN
CALSCALE:GREGORIAN
METHOD:PUBLISH
X-WR-CALNAME:Rainmakers
X-ORIGINAL-URL:https://gorainmakers.com
X-WR-CALDESC:Events for Rainmakers
REFRESH-INTERVAL;VALUE=DURATION:PT1H
X-Robots-Tag:noindex
X-PUBLISHED-TTL:PT1H
BEGIN:VTIMEZONE
TZID:America/Indiana/Indianapolis
BEGIN:DAYLIGHT
TZOFFSETFROM:-0500
TZOFFSETTO:-0400
TZNAME:EDT
DTSTART:20230312T070000
END:DAYLIGHT
BEGIN:STANDARD
TZOFFSETFROM:-0400
TZOFFSETTO:-0500
TZNAME:EST
DTSTART:20231105T060000
END:STANDARD
BEGIN:DAYLIGHT
TZOFFSETFROM:-0500
TZOFFSETTO:-0400
TZNAME:EDT
DTSTART:20240310T070000
END:DAYLIGHT
BEGIN:STANDARD
TZOFFSETFROM:-0400
TZOFFSETTO:-0500
TZNAME:EST
DTSTART:20241103T060000
END:STANDARD
BEGIN:DAYLIGHT
TZOFFSETFROM:-0500
TZOFFSETTO:-0400
TZNAME:EDT
DTSTART:20250309T070000
END:DAYLIGHT
BEGIN:STANDARD
TZOFFSETFROM:-0400
TZOFFSETTO:-0500
TZNAME:EST
DTSTART:20251102T060000
END:STANDARD
END:VTIMEZONE
BEGIN:VEVENT
DTSTART;TZID=America/Indiana/Indianapolis:20241105T083000
DTEND;TZID=America/Indiana/Indianapolis:20241105T100000
DTSTAMP:20260419T175241
CREATED:20240514T165442Z
LAST-MODIFIED:20240514T165442Z
UID:124735-1730795400-1730800800@gorainmakers.com
SUMMARY:ThinkUp
DESCRIPTION:Rainmakers ThinkUP is a uniquely organized networking event for business owners and those who serve them. Picture a room full of sharp\, entrepreneurial-minded professionals brainstorming challenges\, mentoring one another\, and identifying new strategic relationship opportunities. \nBring an idea\, a challenge\, or a discussion topic. You’ll have the opportunity to talk in groups and get feedback to help you move forward in your thoughts. It’s the “Place to Start and progress your ideas to actionable steps.” \nThese events will allow time for some open networking followed by the Hot Seat discussions in small groups. \n  \nStart this exciting new program with a business challenge that is affecting you or your business. \nExample questions: \n\nHow do I attract candidates to the open vacancies in this job seeker market?\nHow can I grow profits in this economy with high inflation?\nHow can I retain my current staff when there are many other business opportunities being offered?\n\n  \nCome and join us for this new and exciting event that will challenge you and change you and/ or your business for the better.
URL:https://gorainmakers.com/event/thinkup-11-5/
LOCATION:Nexus Impact Center\, 9511 Angola Ct\, Indianapolis\, 46268
CATEGORIES:Small Business,ThinkUP
ATTACH;FMTTYPE=image/png:https://gorainmakers.com/wp-content/uploads/2022/04/ThinkUp-2022.png
END:VEVENT
BEGIN:VEVENT
DTSTART;TZID=America/Indiana/Indianapolis:20241120T113000
DTEND;TZID=America/Indiana/Indianapolis:20241120T130000
DTSTAMP:20260419T175241
CREATED:20240506T175107Z
LAST-MODIFIED:20240830T134912Z
UID:124771-1732102200-1732107600@gorainmakers.com
SUMMARY:Rainmakers Connect
DESCRIPTION:Are you ready to rock the networking scene in Indianapolis? Join us for an unforgettable hour of connection and opportunity at the Rainmakers Connect Networking Event on the third Wednesday of each month from 11:30 AM to 1 PM! \nThis event is for BUSINESS OWNERS ONLY. Seats are limited! \nThis event is all about building meaningful relationships with people who get things done in Indianapolis. Our events are open to everyone to make meaningful connections\, known for their friendly and engaging atmosphere\, and we guarantee that you’ll feel welcome from the moment you arrive. \nDon’t pass up the chance to network with the appropriate people\, become part of the Indianapolis community\, and create long-lasting connections that will further your career. 
URL:https://gorainmakers.com/event/rainmakers-connect-5-2024-10-10-2024-10-16-2024-11-20/
LOCATION:Monterey Cuisine\, 110 West Main Street\, Suite 135\, Carmel\, Indiana\, 46032
CATEGORIES:Networking
ATTACH;FMTTYPE=image/png:https://gorainmakers.com/wp-content/uploads/2024/03/Rainmakers-Connect.png
END:VEVENT
END:VCALENDAR